BEGIN:VCALENDAR
VERSION:2.0
PRODID:-//Klub Fajkowo Cygarowy - ECPv5.13.0//NONSGML v1.0//EN
CALSCALE:GREGORIAN
METHOD:PUBLISH
X-WR-CALNAME:Klub Fajkowo Cygarowy
X-ORIGINAL-URL:http://trafika.poznan.pl/klub
X-WR-CALDESC:Wydarzenia dla Klub Fajkowo Cygarowy
BEGIN:VTIMEZONE
TZID:Europe/Warsaw
BEGIN:DAYLIGHT
TZOFFSETFROM:+0100
TZOFFSETTO:+0200
TZNAME:CEST
DTSTART:20160327T010000
END:DAYLIGHT
BEGIN:STANDARD
TZOFFSETFROM:+0200
TZOFFSETTO:+0100
TZNAME:CET
DTSTART:20161030T010000
END:STANDARD
END:VTIMEZONE
BEGIN:VEVENT
DTSTART;VALUE=DATE:20160130
DTEND;VALUE=DATE:20160131
DTSTAMP:20260424T195554
CREATED:20160116T065444Z
LAST-MODIFIED:20160116T065634Z
UID:1281-1454112000-1454198399@trafika.poznan.pl
SUMMARY:Zawody Fajkowo Cygarowe w Poznaniu - 2016r
DESCRIPTION:Drodzy Przyjaciele \, \nOtrzymaliśmy od H. Rogalskiego informację o organizowaniu zawodów przez Poznański KKF w następującej treści: \nKlub Kolekcjonerów Fajek w Poznaniu zaprasza na kolejną edycję cyklu spotkań miłośników szlachetnego tytoniu i fajek. Zaproszenie jest skierowane przede wszystkim do osób pełnoletnich\, będących członkami klubów fajkowych i cygarowych.\nUdział w XIV Otwartych Mistrzostwa Klubu KKF Poznań i w VII Poznańskim Wieczorze Cygar będzie punktowany w ogólnopolskim rankingu Grand Prix 2016.\nNa miłośników szlachetnej sztuki palenia czekają:\n– specjalny model fajki konkursowej dla uczestników XIV Otwartych Mistrzostwa Klubu KKF Poznań wykona firma Bróg mistrza Zbigniewa Bednarczyka z Przemyśla\n– tytoń konkursowy – Poniatowski Red Aroma prosto z linii produkcyjnej Scandinavian Tobacco Group w Assens w Danii. Ten tytoń przybliży młodszym miłośnikom fajki aromat i smak kultowej czerwonej Amphory Full Aroma\n– cygarem VII Poznańskiego Wieczoru Cygar będzie ręcznie zwijane cygaro Macanudo Inspirado Piramide\, które zostało sklasyfikowane jako nr 12 wśród 25 najwyżej ocenionych cygar roku 2015! \nPROGRAM:\ngodz. 10.00 – 12:00 rejestracja uczestników\ngodz. 12.30 powitanie uczestników\, początek XVIII Fajkowego Pucharu Poznania\nok. godz. 15.00 wyłonienie zwycięzców i wręczenie dyplomów\nok. godz. 16.00 wspólny obiad\nok. godz. 17:00 VI Poznański Wieczór Cygar\nWstęp tylko dla osób pełnoletnich\, związanych z imprezą i znajdujących się na liście organizatora.\nORGANIZATOR:\nKlub Kolekcjonerów Fajek w Poznaniu\nDATA: 2016-01-30\nMIEJSCE: Novotel Poznań Malta\, ul. Termalna 5\, 61-028 Poznań\nOpłaty:\n– uczestnik -130\,- zł\n– osoba towarzysząca – 60\,- zł\nW opłatę wliczone będą akcesoria turniejowe\, a także poczęstunek przed zawodami oraz obiad i płatność na rzecz RPKF.\nZgłoszenia i informacje:\nKlub Kolekcjonerów Fajek w Poznaniu\ne-mail kkf.poznan@gmail.com\nZ uwagi na duże zainteresowanie\, jedynie dokonanie przelewu wpisowego gwarantuje miejsce na liście zgłoszeniowej.\nNr rachunku bankowego :\n62 1020 4027 0000 1502 0838 9084\nPARTNERZY:\n– Scandinavian Tobacco Group Polska Sp. z o.o.\n– Pracowanie Fajek Bróg\, Zbigniew Bednarczyk\n– F.H. TRAFIKA s.c. Poznań \nFajka konkursowa Z. Bednarczyka \n \nTytoń konkursowy przygotowany przez Scandinavian Tobacco \n \nI bohater konkursu cygarowego \nMacanudo Inspirado
URL:http://trafika.poznan.pl/klub/event/zawody-fajkowo-cygarowe-w-poznaniu-start-w-2016r/
END:VEVENT
END:VCALENDAR