BEGIN:VCALENDAR
VERSION:2.0
PRODID:-//Klub Fajkowo Cygarowy - ECPv5.13.0//NONSGML v1.0//EN
CALSCALE:GREGORIAN
METHOD:PUBLISH
X-WR-CALNAME:Klub Fajkowo Cygarowy
X-ORIGINAL-URL:http://trafika.poznan.pl/klub
X-WR-CALDESC:Wydarzenia dla Klub Fajkowo Cygarowy
BEGIN:VTIMEZONE
TZID:Europe/Warsaw
BEGIN:DAYLIGHT
TZOFFSETFROM:+0100
TZOFFSETTO:+0200
TZNAME:CEST
DTSTART:20160327T010000
END:DAYLIGHT
BEGIN:STANDARD
TZOFFSETFROM:+0200
TZOFFSETTO:+0100
TZNAME:CET
DTSTART:20161030T010000
END:STANDARD
END:VTIMEZONE
BEGIN:VEVENT
DTSTART;VALUE=DATE:20160626
DTEND;VALUE=DATE:20160627
DTSTAMP:20260424T145937
CREATED:20160606T075524Z
LAST-MODIFIED:20160606T162139Z
UID:1661-1466899200-1466985599@trafika.poznan.pl
SUMMARY:Zaproszenie na Święto Fajki - Przemyśl 2016
DESCRIPTION:Kochani\, \nKoledzy z Przemyskiego Klubu Fajki zapraszają na swoją coroczną imprezę fajkową. I my wspólnie z nimi na tę imprezę gorąco zapraszamy\, bo w Przemyślu być warto . \nWięcej w poniższym linku: \nJednak nie sugerujcie się Kaszubskim Świętem Fajki. Święto jest przemyskie a  motywem przewodnim tegorocznego spotkania w Przemyślu jest fajka kaszubska !!!! \nZAPROSZENIE NA ŚWIĘTO FAJKI 2016 \n  \n 
URL:http://trafika.poznan.pl/klub/event/zaproszenie-na-swieto-fajki-przemysl-2016/
ATTACH;FMTTYPE=image/jpeg:http://trafika.poznan.pl/klub/wp-content/uploads/2016/06/Zrzut-ekranu-2016-06-06-o-18.15.23.jpg
END:VEVENT
END:VCALENDAR