BEGIN:VCALENDAR
VERSION:2.0
PRODID:-//Klub Fajkowo Cygarowy - ECPv5.13.0//NONSGML v1.0//EN
CALSCALE:GREGORIAN
METHOD:PUBLISH
X-WR-CALNAME:Klub Fajkowo Cygarowy
X-ORIGINAL-URL:http://trafika.poznan.pl/klub
X-WR-CALDESC:Wydarzenia dla Klub Fajkowo Cygarowy
BEGIN:VTIMEZONE
TZID:Europe/Warsaw
BEGIN:DAYLIGHT
TZOFFSETFROM:+0100
TZOFFSETTO:+0200
TZNAME:CEST
DTSTART:20150329T010000
END:DAYLIGHT
BEGIN:STANDARD
TZOFFSETFROM:+0200
TZOFFSETTO:+0100
TZNAME:CET
DTSTART:20151025T010000
END:STANDARD
END:VTIMEZONE
BEGIN:VEVENT
DTSTART;VALUE=DATE:20150905
DTEND;VALUE=DATE:20150906
DTSTAMP:20260424T214141
CREATED:20150810T162806Z
LAST-MODIFIED:20150810T162806Z
UID:1059-1441411200-1441497599@trafika.poznan.pl
SUMMARY:XXX lat PC Wrocław
DESCRIPTION:Najbliższa rywalizacja miłośników błękitnego dymu odbędzie się 05.09.2015r  podczas Spotkania Koneserów Fajki z okazji XXX-lecia PC Wrocław. My również zapraszamy. \nSzczegóły w poniższym linku. \nhttp://pcwroc.fajczarze.pl/xxx-lat-pc-wroclaw-5-09-2015-3/
URL:http://trafika.poznan.pl/klub/event/xxx-lat-pc-wroclaw/
LOCATION:Akademia Sztuk Pięknych\, plac Polski 3/4 Ip Aula\, Wrocław\, Polska
END:VEVENT
END:VCALENDAR