BEGIN:VCALENDAR
VERSION:2.0
PRODID:-//Klub Fajkowo Cygarowy - ECPv5.13.0//NONSGML v1.0//EN
CALSCALE:GREGORIAN
METHOD:PUBLISH
X-WR-CALNAME:Klub Fajkowo Cygarowy
X-ORIGINAL-URL:http://trafika.poznan.pl/klub
X-WR-CALDESC:Wydarzenia dla Klub Fajkowo Cygarowy
BEGIN:VTIMEZONE
TZID:Europe/Warsaw
BEGIN:DAYLIGHT
TZOFFSETFROM:+0100
TZOFFSETTO:+0200
TZNAME:CEST
DTSTART:20170326T010000
END:DAYLIGHT
BEGIN:STANDARD
TZOFFSETFROM:+0200
TZOFFSETTO:+0100
TZNAME:CET
DTSTART:20171029T010000
END:STANDARD
END:VTIMEZONE
BEGIN:VEVENT
DTSTART;VALUE=DATE:20170204
DTEND;VALUE=DATE:20170205
DTSTAMP:20260424T132456
CREATED:20170105T173313Z
LAST-MODIFIED:20170105T173313Z
UID:2216-1486166400-1486252799@trafika.poznan.pl
SUMMARY:Turniej AFA - Otwarte Mistrzostwa Poznania
DESCRIPTION:Witajcie \nNa stronie http://www.ariergarda.eu ukazała się informacja o zawodach fajkowych . \n  \nPonieważ ilość miejsc jest bardzo ograniczona \, chętni powinni się zgłosić do organizatora niezwłocznie. \nZ uwagi na formę zawodów \, czyli Otwarte Mistrzostwa Poznania\, przypuszczam że zgłaszać mogą się też osoby niezrzeszone w klubach fajkowych. \nNIE – To chyba musi być chyba jakiś chochlik w zaproszeniu \, że ilość miejsc ograniczona do 30 \, skoro samych członków AFA jest 28. \nGorące pozdrowienia dla wszystkich przyjaciół i sympatyków. Do zobaczenia na zawodach. \n 
URL:http://trafika.poznan.pl/klub/event/turniej-afa-otwarte-mistrzostwa-poznania/
LOCATION:Maszynownia\, Garbary 65\, Poznań\, wielkopolskie\, Polska
END:VEVENT
END:VCALENDAR