BEGIN:VCALENDAR
VERSION:2.0
PRODID:-//Klub Fajkowo Cygarowy - ECPv5.13.0//NONSGML v1.0//EN
CALSCALE:GREGORIAN
METHOD:PUBLISH
X-WR-CALNAME:Klub Fajkowo Cygarowy
X-ORIGINAL-URL:http://trafika.poznan.pl/klub
X-WR-CALDESC:Wydarzenia dla Klub Fajkowo Cygarowy
BEGIN:VTIMEZONE
TZID:Europe/Warsaw
BEGIN:DAYLIGHT
TZOFFSETFROM:+0100
TZOFFSETTO:+0200
TZNAME:CEST
DTSTART:20130331T010000
END:DAYLIGHT
BEGIN:STANDARD
TZOFFSETFROM:+0200
TZOFFSETTO:+0100
TZNAME:CET
DTSTART:20131027T010000
END:STANDARD
END:VTIMEZONE
BEGIN:VEVENT
DTSTART;TZID=Europe/Warsaw:20131219T180000
DTEND;TZID=Europe/Warsaw:20131219T210000
DTSTAMP:20260420T142042
CREATED:20131117T200447Z
LAST-MODIFIED:20131117T200447Z
UID:88-1387476000-1387486800@trafika.poznan.pl
SUMMARY:Świąteczne spotkanie Klubowe
DESCRIPTION:
URL:http://trafika.poznan.pl/klub/event/swiateczne-spotkanie-klubowe/
LOCATION:Klub Trafika\, Sczanieckiej 9/2\, Poznań\, Polska
END:VEVENT
END:VCALENDAR