BEGIN:VCALENDAR
VERSION:2.0
PRODID:-//Klub Fajkowo Cygarowy - ECPv5.13.0//NONSGML v1.0//EN
CALSCALE:GREGORIAN
METHOD:PUBLISH
X-WR-CALNAME:Klub Fajkowo Cygarowy
X-ORIGINAL-URL:http://trafika.poznan.pl/klub
X-WR-CALDESC:Wydarzenia dla Klub Fajkowo Cygarowy
BEGIN:VTIMEZONE
TZID:Europe/Warsaw
BEGIN:DAYLIGHT
TZOFFSETFROM:+0100
TZOFFSETTO:+0200
TZNAME:CEST
DTSTART:20140330T010000
END:DAYLIGHT
BEGIN:STANDARD
TZOFFSETFROM:+0200
TZOFFSETTO:+0100
TZNAME:CET
DTSTART:20141026T010000
END:STANDARD
END:VTIMEZONE
BEGIN:VEVENT
DTSTART;TZID=Europe/Warsaw:20140118T110000
DTEND;TZID=Europe/Warsaw:20140118T200000
DTSTAMP:20260422T123712
CREATED:20140108T172821Z
LAST-MODIFIED:20140108T172821Z
UID:153-1390042800-1390075200@trafika.poznan.pl
SUMMARY:Puchar Klubowy KKF i Wieczór Cygar
DESCRIPTION:Studio Graphit oraz kluby Klub Kolekcjonerów Fajek w Poznaniu i Ariergarda Fajczarzy & Aficionados zapraszają koneserów fajki oraz cygar na zamkniętą imprezę pod nazwą Puchar Klubowy KKF Poznań oraz IV Poznański Wieczór Cygar. \nPROGRAM:\ngodz. 11.00- 12.30 rejestracja uczestników\ngodz. 13.00 powitanie uczestników\, początek Pucharu Klubowego KKF Poznań w Paleniu Fajki\nok. godz. 16.00 wyłonienie zwycięzców i wręczenie dyplomów\nok. godz. 17.00 wspólny obiad\nok. godz. 18:00 IV Poznański Wieczór Cygar\nWstęp tylko dla osób pełnoletnich\, związanych z imprezą i znajdujących się na liście organizatora.
URL:http://trafika.poznan.pl/klub/event/puchar-klubowy-kkf-i-wieczor-cygar/
LOCATION:Novotel Malta\, Termalna 5\, Poznań\, Polska
ORGANIZER;CN="KKF%20Pozna%C5%84":MAILTO:kkf.poznan@gmail.com
END:VEVENT
END:VCALENDAR