BEGIN:VCALENDAR
VERSION:2.0
PRODID:-//Klub Fajkowo Cygarowy - ECPv5.13.0//NONSGML v1.0//EN
CALSCALE:GREGORIAN
METHOD:PUBLISH
X-WR-CALNAME:Klub Fajkowo Cygarowy
X-ORIGINAL-URL:http://trafika.poznan.pl/klub
X-WR-CALDESC:Wydarzenia dla Klub Fajkowo Cygarowy
BEGIN:VTIMEZONE
TZID:Europe/Warsaw
BEGIN:DAYLIGHT
TZOFFSETFROM:+0100
TZOFFSETTO:+0200
TZNAME:CEST
DTSTART:20140330T010000
END:DAYLIGHT
BEGIN:STANDARD
TZOFFSETFROM:+0200
TZOFFSETTO:+0100
TZNAME:CET
DTSTART:20141026T010000
END:STANDARD
END:VTIMEZONE
BEGIN:VEVENT
DTSTART;VALUE=DATE:20140220
DTEND;VALUE=DATE:20140221
DTSTAMP:20260422T155854
CREATED:20140129T085019Z
LAST-MODIFIED:20140129T085149Z
UID:224-1392854400-1392940799@trafika.poznan.pl
SUMMARY:International Pipe Smoking Day 2014
DESCRIPTION:
URL:http://trafika.poznan.pl/klub/event/miedzynarodowy-dzien-fajczarzy-2014/
END:VEVENT
END:VCALENDAR