BEGIN:VCALENDAR
VERSION:2.0
PRODID:-//Klub Fajkowo Cygarowy - ECPv5.13.0//NONSGML v1.0//EN
CALSCALE:GREGORIAN
METHOD:PUBLISH
X-WR-CALNAME:Klub Fajkowo Cygarowy
X-ORIGINAL-URL:http://trafika.poznan.pl/klub
X-WR-CALDESC:Wydarzenia dla Klub Fajkowo Cygarowy
BEGIN:VTIMEZONE
TZID:Europe/Warsaw
BEGIN:DAYLIGHT
TZOFFSETFROM:+0100
TZOFFSETTO:+0200
TZNAME:CEST
DTSTART:20160327T010000
END:DAYLIGHT
BEGIN:STANDARD
TZOFFSETFROM:+0200
TZOFFSETTO:+0100
TZNAME:CET
DTSTART:20161030T010000
END:STANDARD
END:VTIMEZONE
BEGIN:VEVENT
DTSTART;VALUE=DATE:20160528
DTEND;VALUE=DATE:20160529
DTSTAMP:20260424T163331
CREATED:20160521T091428Z
LAST-MODIFIED:20160521T091428Z
UID:1601-1464393600-1464479999@trafika.poznan.pl
SUMMARY:"Kaszebsko Pipa" - Już za tydzień !!!!
DESCRIPTION:KKKF „Kaszëbskô Pipa” w Somoninie serdecznie zaprasza na jubileuszowe\, X Międzynarodowe Mistrzostwa Kaszub w wolnym paleniu fajki „Kaszëbskô Pipa”. Impreza odbędzie się 28 maja w Ostrzycach na terenie ośrodka wypoczynkowego „Wodny Świat”. \nFajką konkursową – Fajka z jesionu ! \nJadącym na zawody zazdroszczę\, nie jadący niech żałują. \nhttp://somoninogok.pl/ \nhttp://rpkf.art.pl/wp-content/uploads/plakat_pipa_2016.pdf \n 
URL:http://trafika.poznan.pl/klub/event/kaszebsko-pipa-juz-za-tydzien/
ATTACH;FMTTYPE=image/jpeg:http://trafika.poznan.pl/klub/wp-content/uploads/2016/05/kaszubska_pipa_02-1-150x150.jpg
END:VEVENT
END:VCALENDAR