BEGIN:VCALENDAR
VERSION:2.0
PRODID:-//Klub Fajkowo Cygarowy - ECPv5.13.0//NONSGML v1.0//EN
CALSCALE:GREGORIAN
METHOD:PUBLISH
X-WR-CALNAME:Klub Fajkowo Cygarowy
X-ORIGINAL-URL:http://trafika.poznan.pl/klub
X-WR-CALDESC:Wydarzenia dla Klub Fajkowo Cygarowy
BEGIN:VTIMEZONE
TZID:Europe/Warsaw
BEGIN:DAYLIGHT
TZOFFSETFROM:+0100
TZOFFSETTO:+0200
TZNAME:CEST
DTSTART:20130331T010000
END:DAYLIGHT
BEGIN:STANDARD
TZOFFSETFROM:+0200
TZOFFSETTO:+0100
TZNAME:CET
DTSTART:20131027T010000
END:STANDARD
END:VTIMEZONE
BEGIN:VEVENT
DTSTART;TZID=Europe/Warsaw:20131116T100000
DTEND;TZID=Europe/Warsaw:20131116T190000
DTSTAMP:20260420T161940
CREATED:20131114T100509Z
LAST-MODIFIED:20131114T100722Z
UID:23-1384596000-1384628400@trafika.poznan.pl
SUMMARY:Bydgoskie Spotkania Fajkowe
DESCRIPTION:
URL:http://trafika.poznan.pl/klub/event/bydgoskie-spotkania-fajkowe/
LOCATION:Restauracja Zatoka\, Floriana 6a\, Bydgoszcz\, Polska
END:VEVENT
END:VCALENDAR